BEGIN:VCALENDAR
VERSION:2.0
PRODID:-//Washoe Dems - ECPv6.15.20//NONSGML v1.0//EN
CALSCALE:GREGORIAN
METHOD:PUBLISH
X-WR-CALNAME:Washoe Dems
X-ORIGINAL-URL:https://washoedems.org
X-WR-CALDESC:Events for Washoe Dems
REFRESH-INTERVAL;VALUE=DURATION:PT1H
X-Robots-Tag:noindex
X-PUBLISHED-TTL:PT1H
BEGIN:VTIMEZONE
TZID:America/Los_Angeles
BEGIN:DAYLIGHT
TZOFFSETFROM:-0800
TZOFFSETTO:-0700
TZNAME:PDT
DTSTART:20250309T100000
END:DAYLIGHT
BEGIN:STANDARD
TZOFFSETFROM:-0700
TZOFFSETTO:-0800
TZNAME:PST
DTSTART:20251102T090000
END:STANDARD
BEGIN:DAYLIGHT
TZOFFSETFROM:-0800
TZOFFSETTO:-0700
TZNAME:PDT
DTSTART:20260308T100000
END:DAYLIGHT
BEGIN:STANDARD
TZOFFSETFROM:-0700
TZOFFSETTO:-0800
TZNAME:PST
DTSTART:20261101T090000
END:STANDARD
BEGIN:DAYLIGHT
TZOFFSETFROM:-0800
TZOFFSETTO:-0700
TZNAME:PDT
DTSTART:20270314T100000
END:DAYLIGHT
BEGIN:STANDARD
TZOFFSETFROM:-0700
TZOFFSETTO:-0800
TZNAME:PST
DTSTART:20271107T090000
END:STANDARD
END:VTIMEZONE
BEGIN:VEVENT
DTSTART;VALUE=DATE:20260415
DTEND;VALUE=DATE:20260509
DTSTAMP:20260422T124235
CREATED:20260410T205526Z
LAST-MODIFIED:20260410T205526Z
UID:2640-1776211200-1778284799@washoedems.org
SUMMARY:Rural Nevada Democratic Caucus CD-2 Candidates Rural Tour
DESCRIPTION:April 15 – Humboldt County – Winnemucca Library\, Doors open at 12:30\nApril 16 – Lander County Courthouse\, Doors open at 2:30\nApril 18 – Elko County Democratic Convention-Stockman’s Casino\, Diamond Banquet Room\, Doors open at 2pm\,\nApril 19 – White Pine Democratic County Convention – White Pine High Multi-Purpose Room\, Doors open at 2pm\nApril 20 – Eureka Opera House\, Doors open at 3:30pm\nMay 1 – Lyon County- Yerington Library\, Doors open at 10:30am\nMay 1 – Churchill County – Jerry’s Restaurant\,\, Fallon. Doors open at 4:30pm\nMay 8 – Douglas County – Zephyr Cove Library\, Doors open at 2:00pm\nMay 8 – Carson City – Gold Dust West\, Doors open at 5:00pm \nClick here to join the convoy and submit your questions to the candidates \n 
URL:https://washoedems.org/event/rural-nevada-democratic-caucus-cd-2-candidates-rural-tour/
CATEGORIES:Candidate Event,Rural Nevada Democrats
ATTACH;FMTTYPE=image/png:https://washoedems.org/wp-content/uploads/2026/04/RNDC-CD2-Tour.png
END:VEVENT
BEGIN:VEVENT
DTSTART;TZID=America/Los_Angeles:20260422T140000
DTEND;TZID=America/Los_Angeles:20260422T150000
DTSTAMP:20260422T124235
CREATED:20260318T171540Z
LAST-MODIFIED:20260318T171540Z
UID:1818-1776866400-1776870000@washoedems.org
SUMMARY:Choose Your Own Dem-Venture
DESCRIPTION:A no-pressure way to learn how you can get involved in the 2026 election. What we’ll cover: \n\nA brief explanation of the Washoe Dems infrastructure and how that fits into the 2026 election.\nAn quick overview of ways you can get involved and\nA summary of Washoe Dems upcoming events and opportunities.\n\n  \nSession Dates:  \nMarch 18\, 2-3 pm\nMarch 21\, 11am-noon\nApril 1\, 2-3 pm\nApril 11\, 11am-noon\nApril 22\, 2-3pm\nMay 6\, 2-3pm\nMay 16\, 11am-noon \nAll sessions will be held at WashoeDEMS HQ located at 1465 Terminal Way\, Suite 1\, Reno\, NV 89502 \nFor more information email us at Volunteer@washoedems.org\nVolunteer forms available at our website at WashoeDems.org
URL:https://washoedems.org/event/choose-your-own-dem-venture-5/
LOCATION:WashoeDEMS HQ\, 1465 Terminal Wy #1\, Reno\, NV\, 89502\, United States
CATEGORIES:Training,WashoeDems Event
ATTACH;FMTTYPE=image/png:https://washoedems.org/wp-content/uploads/2026/03/DemVenture-e1773852825130.png
END:VEVENT
BEGIN:VEVENT
DTSTART;TZID=America/Los_Angeles:20260422T173000
DTEND;TZID=America/Los_Angeles:20260422T193000
DTSTAMP:20260422T124235
CREATED:20260331T141132Z
LAST-MODIFIED:20260417T012315Z
UID:2213-1776879000-1776886200@washoedems.org
SUMMARY:WashoeDEMS Central Committee Special Election Meeting
DESCRIPTION:A Special Meeting of the WashoeDems Central Committee will be held on Wednesday\, April 22\, 2026\, at 6 PM for the purpose of holding an election to fill mid-term vacancies in the WasheDEMS Executive Board. \nNo other business shall be conducted at this meeting. This shall be a hybrid meeting\, held online via ZOOM and IN PERSON at our headquarters located at 1465 Terminal Way\, Suite 1\, Reno\, NV\, 89502. \nCheck-in 5:30\nMeeting: 6:00 pm \nAll members and guests must complete the registration form to attend (in person or online):\nMember Registration Form \nMembers attending via Zoom must also complete Zoom registration:\nZoom Registration  \nNotice of Election\nDue to the recent resignations of our Chair and Secretary\, we will be holding an election for these Executive Board positions at a special central committee meeting on Wednesday\, April 22\, 2026. As our First Vice Chair is running unopposed for Chair\, for purposes of this election the office of First Vice Chair shall be considered open and an election for First Vice Chair shall be conducted at the same time as the elections for Chair and Secretary. \nThe election rules\, candidates and candidate statements can be found at the WashoeDEMS Central Committee page \n\nElection Overview\n\nThe election will be held at the Washoe County Central Committee\nmeeting on Wednesday\, April 22\, 2026.\nEach candidate must be a registered Democrat residing in Washoe County.\nOnly current members of the WCCC in good standing may vote in the election and votes shall be taken by non-secret ballot in accordance with the bylaws.\nCompleted candidate nomination forms and statements of intent shall be posted on the DPWC website by Monday\, April 13\, 2026.\nAll e-mail communications to the WCCC member list from candidates shall be sent by the DPWC. Email communications shall be limited to ONE (1) message per candidate.\n\n\n\nWCCC members who are unable to attend \nPlease notify us via the registration form. This will be considered written notification to our Secretary and your absence will be excused. \n“Day Of” Meeting Information\nOnline Attendees: Please sign in between 5:00-5:30pm. We strongly encourage you to log on at least 30 minutes before the start time to avoid any sign-in issues.\n\nIn Person Attendees: The office will open at 5:00 pm for sign-in. \nThe Central Committee meeting will be begin promptly at 6:00 pm.
URL:https://washoedems.org/event/washoedems-central-committee-special-election-meeting/
LOCATION:WashoeDEMS HQ\, 1465 Terminal Wy #1\, Reno\, NV\, 89502\, United States
CATEGORIES:WashoeDems Event
ATTACH;FMTTYPE=image/png:https://washoedems.org/wp-content/uploads/2025/08/WDLogos.png
END:VEVENT
BEGIN:VEVENT
DTSTART;TZID=America/Los_Angeles:20260422T180000
DTEND;TZID=America/Los_Angeles:20260422T190000
DTSTAMP:20260422T124235
CREATED:20260415T160542Z
LAST-MODIFIED:20260415T160632Z
UID:2697-1776880800-1776884400@washoedems.org
SUMMARY:Meet & Greet: Oscar Fuentes for AD-40
DESCRIPTION:Meet with Oscar Fuentes\, candidate for Assembly District 40 and Maria “Lupe” Ramirez\, candidate for Carson City School Board District 1.\nLa conversación será bilingüe\, en Inglés y Español. \nWednesday\, April 22\, 2026\n6:00 – 7:00 PM\nEl Charro Avitia\n4389 S. Carson City\, NV 89701 \nJoin us! Acomanos!
URL:https://washoedems.org/event/meet-greet-oscar-fuentes-for-ad-40/
LOCATION:El Charro Avitia\, 4389 S Carson Street\, Carson City\, NV\, 89701\, United States
CATEGORIES:Candidate Event
ATTACH;FMTTYPE=image/png:https://washoedems.org/wp-content/uploads/2026/04/Oscar-revised-4-14-26.png
ORGANIZER;CN="Oscar Fuentes for AD-40":MAILTO:oscarmfuentesforad40@gmail.com
END:VEVENT
END:VCALENDAR