BEGIN:VCALENDAR
VERSION:2.0
PRODID:-//Washoe Dems - ECPv6.15.20//NONSGML v1.0//EN
CALSCALE:GREGORIAN
METHOD:PUBLISH
X-WR-CALNAME:Washoe Dems
X-ORIGINAL-URL:https://washoedems.org
X-WR-CALDESC:Events for Washoe Dems
REFRESH-INTERVAL;VALUE=DURATION:PT1H
X-Robots-Tag:noindex
X-PUBLISHED-TTL:PT1H
BEGIN:VTIMEZONE
TZID:America/Los_Angeles
BEGIN:DAYLIGHT
TZOFFSETFROM:-0800
TZOFFSETTO:-0700
TZNAME:PDT
DTSTART:20250309T100000
END:DAYLIGHT
BEGIN:STANDARD
TZOFFSETFROM:-0700
TZOFFSETTO:-0800
TZNAME:PST
DTSTART:20251102T090000
END:STANDARD
BEGIN:DAYLIGHT
TZOFFSETFROM:-0800
TZOFFSETTO:-0700
TZNAME:PDT
DTSTART:20260308T100000
END:DAYLIGHT
BEGIN:STANDARD
TZOFFSETFROM:-0700
TZOFFSETTO:-0800
TZNAME:PST
DTSTART:20261101T090000
END:STANDARD
BEGIN:DAYLIGHT
TZOFFSETFROM:-0800
TZOFFSETTO:-0700
TZNAME:PDT
DTSTART:20270314T100000
END:DAYLIGHT
BEGIN:STANDARD
TZOFFSETFROM:-0700
TZOFFSETTO:-0800
TZNAME:PST
DTSTART:20271107T090000
END:STANDARD
END:VTIMEZONE
BEGIN:VEVENT
DTSTART;VALUE=DATE:20260415
DTEND;VALUE=DATE:20260509
DTSTAMP:20260423T014358
CREATED:20260410T205526Z
LAST-MODIFIED:20260410T205526Z
UID:2640-1776211200-1778284799@washoedems.org
SUMMARY:Rural Nevada Democratic Caucus CD-2 Candidates Rural Tour
DESCRIPTION:April 15 – Humboldt County – Winnemucca Library\, Doors open at 12:30\nApril 16 – Lander County Courthouse\, Doors open at 2:30\nApril 18 – Elko County Democratic Convention-Stockman’s Casino\, Diamond Banquet Room\, Doors open at 2pm\,\nApril 19 – White Pine Democratic County Convention – White Pine High Multi-Purpose Room\, Doors open at 2pm\nApril 20 – Eureka Opera House\, Doors open at 3:30pm\nMay 1 – Lyon County- Yerington Library\, Doors open at 10:30am\nMay 1 – Churchill County – Jerry’s Restaurant\,\, Fallon. Doors open at 4:30pm\nMay 8 – Douglas County – Zephyr Cove Library\, Doors open at 2:00pm\nMay 8 – Carson City – Gold Dust West\, Doors open at 5:00pm \nClick here to join the convoy and submit your questions to the candidates \n 
URL:https://washoedems.org/event/rural-nevada-democratic-caucus-cd-2-candidates-rural-tour/
CATEGORIES:Candidate Event,Rural Nevada Democrats
ATTACH;FMTTYPE=image/png:https://washoedems.org/wp-content/uploads/2026/04/RNDC-CD2-Tour.png
END:VEVENT
BEGIN:VEVENT
DTSTART;TZID=America/Los_Angeles:20260423T171500
DTEND;TZID=America/Los_Angeles:20260423T191500
DTSTAMP:20260423T014358
CREATED:20260327T144227Z
LAST-MODIFIED:20260420T225419Z
UID:2144-1776964500-1776971700@washoedems.org
SUMMARY:Northern Nevada Huddle April Meeting - Meet the Candidates!
DESCRIPTION:Program: \n\nTeresa Benitez Thompson Candidate for Congressional District 2\nCandidate website\nMorgan Wadsworth  Candidate for Congressional District 2\nCandidate website\nNicole Cannizzaro Candidate for Nevada Attorney General\nCandidate website\nBrian Wadsworth Candidate for Washoe County Commission District #5\nCandidate website\n\n5:15 mixer.  Meeting: 5:45-7:15pm (EARLY START TIME!) \nReno Fire Station 11 Conference Room\, 7105 Mae Anne Ave\, Reno\, NV 89523\nThe conference room is on the south side of the building. Enter the building through the doors on the left. Don’t go up the stairs and don’t go into the fire station. \nPlease contact Bob Blackstock if you have any questions: bb.cd24@gmail.com
URL:https://washoedems.org/event/northern-nevada-huddle-april-meeting/
LOCATION:Reno Fire Station 11\, 7105 Mae Anne Ave\, Reno\, NV\, 89523\, United States
CATEGORIES:Partner Event
ORGANIZER;CN="Northern Nevada Huddle":MAILTO:bb.cd24@gmail.com
END:VEVENT
BEGIN:VEVENT
DTSTART;TZID=America/Los_Angeles:20260423T173000
DTEND;TZID=America/Los_Angeles:20260423T190000
DTSTAMP:20260423T014358
CREATED:20260410T191719Z
LAST-MODIFIED:20260410T192548Z
UID:2603-1776965400-1776970800@washoedems.org
SUMMARY:Fundraiser in support of Mariluz Garcia for County Commission District 3
DESCRIPTION:Please join our host committee\, Yolanda Gonzalez & Mary Avalos\, for a fundraiser in support of Mariluz Garcia for County Commission District 3 \nThursday\, April 23\n5:30 PM – 7:00 PM PT\nReno\, NV\nAddress Upon RSVP \nHow to RSVP: \nYou can RSVP by donating here\,\nor emailing RSVP@TissotSolutions.com\,\nor texting “REPRESENT” to 775-546-0160 \nChecks can be written to “Garcia for Nevada” and brought to the event or mailed to 1674 N Virginia Street #8542\, Reno\, NV 89507. If mailing\, please include a note about this fundraiser.
URL:https://washoedems.org/event/fundraiser-in-support-of-mariluz-garcia-for-county-commission-district-3/
CATEGORIES:Candidate Event
ATTACH;FMTTYPE=image/png:https://washoedems.org/wp-content/uploads/2026/04/Mariluz-REPRESENT-4.23.png
END:VEVENT
BEGIN:VEVENT
DTSTART;TZID=America/Los_Angeles:20260423T180000
DTEND;TZID=America/Los_Angeles:20260423T200000
DTSTAMP:20260423T014358
CREATED:20260308T141127Z
LAST-MODIFIED:20260308T141416Z
UID:1669-1776967200-1776974400@washoedems.org
SUMMARY:Heart of Reno April Meeting
DESCRIPTION:Join the Heart of Reno Dems for their April meeting!  \nProgram: \nNicole Cannizzaro\, Majority Leader\, Nevada Legislature and candidate for Nevada Attorney General \n6:00 pm – Pre-meeting social time\n6:30 pm – Meeting begins
URL:https://washoedems.org/event/heart-of-reno-april-meeting/
LOCATION:Washoe County Golf Course\, 2601 Foley Way\, Reno\, NV\, 89509\, United States
CATEGORIES:Affiliate Event,WashoeDems Event
ATTACH;FMTTYPE=image/png:https://washoedems.org/wp-content/uploads/2025/10/Heart-of-Reno-Logo-scaled-e1770418364985.png
END:VEVENT
BEGIN:VEVENT
DTSTART;TZID=America/Los_Angeles:20260423T180000
DTEND;TZID=America/Los_Angeles:20260423T200000
DTSTAMP:20260423T014358
CREATED:20260406T164019Z
LAST-MODIFIED:20260406T164114Z
UID:2444-1776967200-1776974400@washoedems.org
SUMMARY:Mayoral Forum sponsored by the Reno-Sparks NAACP
DESCRIPTION:Thursday\, April 23\, 2026\n6:00 PM – 8:00 PM\nNorthern Nevada Labor Temple\,1819 Hymer Avenue\, Sparks\, NV 89431 \nThis forum will provide an opportunity for community members to hear directly from candidates and engage with key issues affecting Reno and Sparks. \nThe event will follow a structured\, moderated format to ensure a respectful and balanced discussion among candidates.
URL:https://washoedems.org/event/mayoral-forum-sponsored-by-the-reno-sparks-naacp/
LOCATION:Northern Nevada Labor Temple\, 1819 Hymer Ave\, Sparks\, NV\, 89431\, United States
CATEGORIES:Community Event,Partner Event
ATTACH;FMTTYPE=image/png:https://washoedems.org/wp-content/uploads/2026/04/2026-Mayoral-Candidate-Forum-e1775493556117.png
END:VEVENT
END:VCALENDAR