BEGIN:VCALENDAR
VERSION:2.0
PRODID:-//Washoe Dems - ECPv6.15.20//NONSGML v1.0//EN
CALSCALE:GREGORIAN
METHOD:PUBLISH
X-ORIGINAL-URL:https://washoedems.org
X-WR-CALDESC:Events for Washoe Dems
REFRESH-INTERVAL;VALUE=DURATION:PT1H
X-Robots-Tag:noindex
X-PUBLISHED-TTL:PT1H
BEGIN:VTIMEZONE
TZID:America/Los_Angeles
BEGIN:DAYLIGHT
TZOFFSETFROM:-0800
TZOFFSETTO:-0700
TZNAME:PDT
DTSTART:20250309T100000
END:DAYLIGHT
BEGIN:STANDARD
TZOFFSETFROM:-0700
TZOFFSETTO:-0800
TZNAME:PST
DTSTART:20251102T090000
END:STANDARD
BEGIN:DAYLIGHT
TZOFFSETFROM:-0800
TZOFFSETTO:-0700
TZNAME:PDT
DTSTART:20260308T100000
END:DAYLIGHT
BEGIN:STANDARD
TZOFFSETFROM:-0700
TZOFFSETTO:-0800
TZNAME:PST
DTSTART:20261101T090000
END:STANDARD
BEGIN:DAYLIGHT
TZOFFSETFROM:-0800
TZOFFSETTO:-0700
TZNAME:PDT
DTSTART:20270314T100000
END:DAYLIGHT
BEGIN:STANDARD
TZOFFSETFROM:-0700
TZOFFSETTO:-0800
TZNAME:PST
DTSTART:20271107T090000
END:STANDARD
END:VTIMEZONE
BEGIN:VEVENT
DTSTART;TZID=America/Los_Angeles:20260528T093000
DTEND;TZID=America/Los_Angeles:20260528T103000
DTSTAMP:20260422T094212
CREATED:20260312T140800Z
LAST-MODIFIED:20260420T234445Z
UID:1735-1779960600-1779964200@washoedems.org
SUMMARY:Coffee & Connection with the Democratic Women of Washoe
DESCRIPTION:Join us every Thursday morning at WashoeDEMS HQ as we come together over coffee and snacks to find community and take on the challenges facing us\, one conversation at a time. \nWhen: Every Thursday\nTime: 9:30 – 10:30 a.m.\n1465 Terminal Way\, Suite 1\, Reno\, NV 89502
URL:https://washoedems.org/event/coffee-connection-with-the-democratic-women-of-washoe-3/
LOCATION:WashoeDEMS HQ\, 1465 Terminal Wy #1\, Reno\, NV\, 89502\, United States
CATEGORIES:Affiliate Event,WashoeDems Event
ATTACH;FMTTYPE=image/png:https://washoedems.org/wp-content/uploads/2026/03/dwwc-coffee-logo-e1775670840495.png
ORGANIZER;CN="Democratic Women of Washoe":MAILTO:dwwc@washoedems.org
END:VEVENT
BEGIN:VEVENT
DTSTART;TZID=America/Los_Angeles:20260528T180000
DTEND;TZID=America/Los_Angeles:20260528T200000
DTSTAMP:20260422T094212
CREATED:20260308T142854Z
LAST-MODIFIED:20260308T142854Z
UID:1679-1779991200-1779998400@washoedems.org
SUMMARY:Heart of Reno May Meeting
DESCRIPTION:Join the Heart of Reno Dems for their May meeting!  \nProgram: Teresa Benitez-Thompson\, candidate for U.S. Congressional District 2 and former Speaker of the Nevada Assembly. \n6:00 pm – Pre-meeting social time\n6:30 pm – Meeting begins!
URL:https://washoedems.org/event/heart-of-reno-may-meeting/
LOCATION:Washoe County Golf Course\, 2601 Foley Way\, Reno\, NV\, 89509\, United States
CATEGORIES:Affiliate Event,WashoeDems Event
ATTACH;FMTTYPE=image/png:https://washoedems.org/wp-content/uploads/2025/10/Heart-of-Reno-Logo-scaled-e1770418364985.png
END:VEVENT
BEGIN:VEVENT
DTSTART;TZID=America/Los_Angeles:20260604T093000
DTEND;TZID=America/Los_Angeles:20260604T103000
DTSTAMP:20260422T094212
CREATED:20260312T140321Z
LAST-MODIFIED:20260420T234607Z
UID:1730-1780565400-1780569000@washoedems.org
SUMMARY:Coffee & Connection with the Democratic Women of Washoe
DESCRIPTION:Join us every Thursday morning at WashoeDEMS HQ as we come together over coffee and snacks to find community and take on the challenges facing us\, one conversation at a time. \nWhen: Every Thursday\nTime: 9:30 – 10:30 a.m.\n1465 Terminal Way\, Suite 1\, Reno\, NV 89502
URL:https://washoedems.org/event/coffee-connection-with-the-democratic-women-of-washoe/
LOCATION:WashoeDEMS HQ\, 1465 Terminal Wy #1\, Reno\, NV\, 89502\, United States
CATEGORIES:Affiliate Event,WashoeDems Event
ATTACH;FMTTYPE=image/png:https://washoedems.org/wp-content/uploads/2026/03/dwwc-coffee-logo-e1775670840495.png
ORGANIZER;CN="Democratic Women of Washoe":MAILTO:dwwc@washoedems.org
END:VEVENT
BEGIN:VEVENT
DTSTART;TZID=America/Los_Angeles:20260613T140000
DTEND;TZID=America/Los_Angeles:20260613T170000
DTSTAMP:20260422T094212
CREATED:20260418T212646Z
LAST-MODIFIED:20260418T212646Z
UID:2783-1781359200-1781370000@washoedems.org
SUMMARY:North WashoeDEMS Picnic!
DESCRIPTION:In place of our June meeting\, we are holding an afternoon Potluck Picnic on Saturday June 13\, 2:00 – 5:00 pm. This is after the June Primary election — an opportunity to celebrate and regroup for the November election. \nOur hosts\, Jean and Griff Griffith*\, will provide sandwich trays\, including vegan and vegetarian options.  \nWe are asking our attendees to bring their favorite side dish or dessert. \nWater and soft drinks will be available\, but if you want something stronger\, please BYOB. \nFor planning purposes\, please RSVP by May 25th to nwd@washoedems.org to let us know that that you plan to attend and what dish you will bring. \n*Location provided upon RSVP
URL:https://washoedems.org/event/north-washoedems-picnic/
CATEGORIES:Affiliate Event
ATTACH;FMTTYPE=image/webp:https://washoedems.org/wp-content/uploads/2025/10/b2608e1fee041b0dbcc828c2d0636fb0.North-WashoeDEMS.png-e1774969323492.webp
END:VEVENT
END:VCALENDAR